BEGIN:VCALENDAR
VERSION:2.0
PRODID:icalendar-ruby
CALSCALE:GREGORIAN
METHOD:PUBLISH
BEGIN:VEVENT
DTSTAMP:20260423T225408Z
UID:9-397259@thegatecbc.com
DTSTART:20261004T160000Z
DTEND:20261004T171500Z
CLASS:PUBLIC
CREATED:20260423T134602
DESCRIPTION:Please join us for our Sunday morning service with solid Bible 
 teaching and high quality worship music led by talented musicians.
LAST-MODIFIED:20260423T134602
LOCATION:The Gate
SUMMARY:Sunday Worship Service
URL;VALUE=URI:https://thegatecbc.com/events/sunday-worship-service/2026-10-
 04
ATTACH;FILENAME=IMG_0288.jpg;FMTTYPE=image/jpeg:https://dq5pwpg1q8ru0.cloud
 front.net/2024/02/07/19/49/15/23de0c6e-64f0-40bc-a566-aecb62640e55/IMG_028
 8.jpg
END:VEVENT
END:VCALENDAR
