BEGIN:VCALENDAR
VERSION:2.0
PRODID:icalendar-ruby
CALSCALE:GREGORIAN
METHOD:PUBLISH
BEGIN:VEVENT
DTSTAMP:20260424T141034Z
UID:54-396691@thegatecbc.com
DTSTART:20260516T150000Z
DTEND:20260516T200000Z
CLASS:PUBLIC
CREATED:20260423T104747
DESCRIPTION:Saturday\, May 16\, is Love Mission Viejo Day\, where The Gate 
 will again be joining with other churches and organizations to volunteer t
 o help our community.  This is an excellent opportunity to help people in
  our community and share the love of Jesus.\n\nSo far\, there are 14 proje
 cts where you can volunteer\, including home repairs\, card-making\, bakin
 g\, tech help for seniors\, meals on wheels\, gift basket making\, plantin
 g\, and community clean-up.  Sign up for a project that best fits your in
 terests and skills.  It’s going to be a fun and meaningful day of helpi
 ng others!\n\nTo sign up for a project\, go to the Love Mission Viejo webs
 ite and select “Volunteer” for Love Mission Viejo Day on the Home pag
 e.  The day runs from 8:00 a.m. to 1:00 p.m. on Saturday\, May 16.  Plea
 se contact Paula Sohlgren for more information.
LAST-MODIFIED:20260423T104747
LOCATION:
SUMMARY:Love Mission Viejo Day
URL;VALUE=URI:https://thegatecbc.com/events/love-mission-viejo-day/2026-05-
 16
ATTACH;FILENAME=Love-Mission-Viejo-Volunteer-Slide.jpg;FMTTYPE=image/jpeg:h
 ttps://dq5pwpg1q8ru0.cloudfront.net/2026/04/23/17/46/54/b7ec824f-cb69-4a01
 -8844-f657e0f39424/Love-Mission-Viejo-Volunteer-Slide.jpg
END:VEVENT
END:VCALENDAR
